Package: basecallQC Version: 1.33.0 Command: /home/biocbuild/R/R/bin/R CMD INSTALL basecallQC StartedAt: 2025-10-20 21:14:46 -0000 (Mon, 20 Oct 2025) EndedAt: 2025-10-20 21:15:57 -0000 (Mon, 20 Oct 2025) EllapsedTime: 71.2 seconds RetCode: 0 Status: OK