Package: basecallQC Version: 1.33.0 Command: /home/biocbuild/R/R/bin/R CMD check --install=check:basecallQC.install-out.txt --library=/home/biocbuild/R/R/site-library --no-vignettes --timings basecallQC_1.33.0.tar.gz StartedAt: 2025-10-21 04:39:55 -0000 (Tue, 21 Oct 2025) EndedAt: 2025-10-21 04:50:11 -0000 (Tue, 21 Oct 2025) EllapsedTime: 615.3 seconds RetCode: 0 Status: OK CheckDir: basecallQC.Rcheck Warnings: 0