Package: basecallQC Version: 1.33.0 Command: /home/biocbuild/bbs-3.22-bioc/R/bin/R CMD INSTALL basecallQC StartedAt: 2025-10-20 15:49:27 -0400 (Mon, 20 Oct 2025) EndedAt: 2025-10-20 15:50:20 -0400 (Mon, 20 Oct 2025) EllapsedTime: 53.3 seconds RetCode: 0 Status: OK