Package: basecallQC Version: 1.33.0 Command: /home/biocbuild/bbs-3.22-bioc/R/bin/R CMD check --install=check:basecallQC.install-out.txt --library=/home/biocbuild/bbs-3.22-bioc/R/site-library --timings basecallQC_1.33.0.tar.gz StartedAt: 2025-10-20 21:10:56 -0400 (Mon, 20 Oct 2025) EndedAt: 2025-10-20 21:18:26 -0400 (Mon, 20 Oct 2025) EllapsedTime: 450.3 seconds RetCode: 0 Status: OK CheckDir: basecallQC.Rcheck Warnings: 0