Package: basecallQC Version: 1.33.0 Command: /Library/Frameworks/R.framework/Resources/bin/R CMD check --install=check:basecallQC.install-out.txt --library=/Library/Frameworks/R.framework/Resources/library --no-vignettes --timings basecallQC_1.33.0.tar.gz StartedAt: 2025-10-20 18:31:11 -0400 (Mon, 20 Oct 2025) EndedAt: 2025-10-20 18:33:53 -0400 (Mon, 20 Oct 2025) EllapsedTime: 161.9 seconds RetCode: 0 Status: OK CheckDir: basecallQC.Rcheck Warnings: 0