Package: barcodetrackR Version: 1.17.0 Command: /home/biocbuild/R/R/bin/R CMD INSTALL barcodetrackR StartedAt: 2025-09-29 20:51:01 -0000 (Mon, 29 Sep 2025) EndedAt: 2025-09-29 20:51:36 -0000 (Mon, 29 Sep 2025) EllapsedTime: 34.9 seconds RetCode: 0 Status: OK