Package: barcodetrackR Version: 1.17.0 Command: F:\biocbuild\bbs-3.22-bioc\R\bin\R.exe CMD check --no-multiarch --install=check:barcodetrackR.install-out.txt --library=F:\biocbuild\bbs-3.22-bioc\R\library --no-vignettes --timings barcodetrackR_1.17.0.tar.gz StartedAt: 2025-08-15 00:40:01 -0400 (Fri, 15 Aug 2025) EndedAt: 2025-08-15 00:44:04 -0400 (Fri, 15 Aug 2025) EllapsedTime: 242.8 seconds RetCode: 0 Status: OK CheckDir: barcodetrackR.Rcheck Warnings: 0