Package: barcodetrackR Version: 1.17.0 Command: rm -rf barcodetrackR.buildbin-libdir && mkdir barcodetrackR.buildbin-libdir && F:\biocbuild\bbs-3.22-bioc\R\bin\R.exe CMD INSTALL --build --library=barcodetrackR.buildbin-libdir barcodetrackR_1.17.0.tar.gz StartedAt: 2025-08-15 09:46:02 -0400 (Fri, 15 Aug 2025) EndedAt: 2025-08-15 09:47:00 -0400 (Fri, 15 Aug 2025) EllapsedTime: 58.1 seconds RetCode: 0 Status: OK PackageFile: barcodetrackR_1.17.0.zip PackageFileSize: 2.056 MiB