Package: barcodetrackR Version: 1.17.0 Command: /Library/Frameworks/R.framework/Resources/bin/R CMD INSTALL barcodetrackR StartedAt: 2025-10-19 15:11:48 -0400 (Sun, 19 Oct 2025) EndedAt: 2025-10-19 15:11:59 -0400 (Sun, 19 Oct 2025) EllapsedTime: 10.8 seconds RetCode: 0 Status: OK