Package: barcodetrackR Version: 1.17.0 Command: /Library/Frameworks/R.framework/Resources/bin/R CMD check --install=check:barcodetrackR.install-out.txt --library=/Library/Frameworks/R.framework/Resources/library --no-vignettes --timings barcodetrackR_1.17.0.tar.gz StartedAt: 2025-10-19 18:30:20 -0400 (Sun, 19 Oct 2025) EndedAt: 2025-10-19 18:31:44 -0400 (Sun, 19 Oct 2025) EllapsedTime: 83.9 seconds RetCode: 1 Status: ERROR CheckDir: barcodetrackR.Rcheck Warnings: NA