Package: barcodetrackR Version: 1.17.0 Command: /Library/Frameworks/R.framework/Resources/bin/R CMD build --keep-empty-dirs --no-resave-data barcodetrackR StartedAt: 2025-10-19 15:40:50 -0400 (Sun, 19 Oct 2025) EndedAt: 2025-10-19 15:41:23 -0400 (Sun, 19 Oct 2025) EllapsedTime: 32.3 seconds RetCode: 0 Status: OK PackageFile: barcodetrackR_1.17.0.tar.gz PackageFileSize: 3.562 MiB