Package: barbieQ Version: 1.2.0 Command: /Library/Frameworks/R.framework/Resources/bin/R CMD check --install=check:barbieQ.install-out.txt --library=/Library/Frameworks/R.framework/Resources/library --no-vignettes --timings barbieQ_1.2.0.tar.gz StartedAt: 2025-11-06 18:33:32 -0500 (Thu, 06 Nov 2025) EndedAt: 2025-11-06 18:35:09 -0500 (Thu, 06 Nov 2025) EllapsedTime: 97.1 seconds RetCode: 0 Status: OK CheckDir: barbieQ.Rcheck Warnings: 0