Package: barbieQ Version: 1.2.0 Command: /Library/Frameworks/R.framework/Resources/bin/R CMD build --keep-empty-dirs --no-resave-data barbieQ StartedAt: 2025-11-03 15:41:25 -0500 (Mon, 03 Nov 2025) EndedAt: 2025-11-03 15:44:14 -0500 (Mon, 03 Nov 2025) EllapsedTime: 168.8 seconds RetCode: 0 Status: OK PackageFile: barbieQ_1.2.0.tar.gz PackageFileSize: 4.2 MiB