Package: banocc Version: 1.34.0 Command: /Library/Frameworks/R.framework/Resources/bin/R CMD INSTALL banocc StartedAt: 2025-11-17 17:00:40 -0500 (Mon, 17 Nov 2025) EndedAt: 2025-11-17 17:01:05 -0500 (Mon, 17 Nov 2025) EllapsedTime: 24.8 seconds RetCode: 0 Status: OK