Package: banocc Version: 1.34.0 Command: /Library/Frameworks/R.framework/Resources/bin/R CMD check --install=check:banocc.install-out.txt --library=/Library/Frameworks/R.framework/Resources/library --no-vignettes --timings banocc_1.34.0.tar.gz StartedAt: 2025-11-21 01:33:26 -0500 (Fri, 21 Nov 2025) EndedAt: 2025-11-21 01:37:13 -0500 (Fri, 21 Nov 2025) EllapsedTime: 226.4 seconds RetCode: 1 Status: ERROR CheckDir: banocc.Rcheck Warnings: NA