Package: banocc Version: 1.34.0 Command: /Library/Frameworks/R.framework/Resources/bin/R CMD build --keep-empty-dirs --no-resave-data banocc StartedAt: 2025-11-20 18:00:30 -0500 (Thu, 20 Nov 2025) EndedAt: 2025-11-20 18:04:52 -0500 (Thu, 20 Nov 2025) EllapsedTime: 261.8 seconds RetCode: 0 Status: OK PackageFile: banocc_1.34.0.tar.gz PackageFileSize: 26.08 MiB