Package: banocc Version: 1.34.0 Command: rm -rf banocc.buildbin-libdir && mkdir banocc.buildbin-libdir && /Users/biocbuild/BBS/utils/build-universal.sh banocc_1.34.0.tar.gz /Library/Frameworks/R.framework/Resources/bin/R banocc.buildbin-libdir StartedAt: 2025-11-18 17:11:48 -0500 (Tue, 18 Nov 2025) EndedAt: 2025-11-18 17:12:14 -0500 (Tue, 18 Nov 2025) EllapsedTime: 26.2 seconds RetCode: 0 Status: OK PackageFile: banocc_1.34.0.tgz PackageFileSize: 1.639 MiB