Package: banocc Version: 1.34.0 Command: /Library/Frameworks/R.framework/Resources/bin/R CMD INSTALL banocc StartedAt: 2025-10-31 15:19:12 -0400 (Fri, 31 Oct 2025) EndedAt: 2025-10-31 15:19:56 -0400 (Fri, 31 Oct 2025) EllapsedTime: 43.5 seconds RetCode: 0 Status: OK