Package: banocc Version: 1.34.0 Command: rm -rf banocc.buildbin-libdir && mkdir banocc.buildbin-libdir && /Users/biocbuild/BBS/utils/build-universal.sh banocc_1.34.0.tar.gz /Library/Frameworks/R.framework/Resources/bin/R banocc.buildbin-libdir StartedAt: 2025-11-01 01:22:46 -0400 (Sat, 01 Nov 2025) EndedAt: 2025-11-01 01:23:02 -0400 (Sat, 01 Nov 2025) EllapsedTime: 16.2 seconds RetCode: 0 Status: OK PackageFile: banocc_1.34.0.tgz PackageFileSize: 1.527 MiB