Package: banocc Version: 1.34.0 Command: /Library/Frameworks/R.framework/Resources/bin/R CMD build --keep-empty-dirs --no-resave-data banocc StartedAt: 2025-11-17 19:13:34 -0500 (Mon, 17 Nov 2025) EndedAt: 2025-11-17 19:14:22 -0500 (Mon, 17 Nov 2025) EllapsedTime: 48.4 seconds RetCode: 0 Status: OK PackageFile: banocc_1.34.0.tar.gz PackageFileSize: 26.09 MiB