Package: bambu Version: 3.11.2 Command: F:\biocbuild\bbs-3.22-bioc\R\bin\R.exe CMD check --no-multiarch --install=check:bambu.install-out.txt --library=F:\biocbuild\bbs-3.22-bioc\R\library --no-vignettes --timings bambu_3.11.2.tar.gz StartedAt: 2025-08-15 00:38:15 -0400 (Fri, 15 Aug 2025) EndedAt: 2025-08-15 00:48:04 -0400 (Fri, 15 Aug 2025) EllapsedTime: 589.3 seconds RetCode: 0 Status: OK CheckDir: bambu.Rcheck Warnings: 0