Package: ballgown Version: 2.42.0 Command: /home/biocbuild/bbs-3.22-bioc/R/bin/R CMD INSTALL ballgown StartedAt: 2025-11-17 17:36:53 -0500 (Mon, 17 Nov 2025) EndedAt: 2025-11-17 17:37:37 -0500 (Mon, 17 Nov 2025) EllapsedTime: 43.3 seconds RetCode: 0 Status: OK