Package: ballgown Version: 2.42.0 Command: /home/biocbuild/bbs-3.22-bioc/R/bin/R CMD check --install=check:ballgown.install-out.txt --library=/home/biocbuild/bbs-3.22-bioc/R/site-library --timings ballgown_2.42.0.tar.gz StartedAt: 2025-11-20 22:02:10 -0500 (Thu, 20 Nov 2025) EndedAt: 2025-11-20 22:08:39 -0500 (Thu, 20 Nov 2025) EllapsedTime: 388.8 seconds RetCode: 1 Status: ERROR CheckDir: ballgown.Rcheck Warnings: NA