Package: ballgown Version: 2.42.0 Command: /Library/Frameworks/R.framework/Resources/bin/R CMD check --install=check:ballgown.install-out.txt --library=/Library/Frameworks/R.framework/Resources/library --no-vignettes --timings ballgown_2.42.0.tar.gz StartedAt: 2025-11-03 19:35:00 -0500 (Mon, 03 Nov 2025) EndedAt: 2025-11-03 19:42:13 -0500 (Mon, 03 Nov 2025) EllapsedTime: 433.1 seconds RetCode: 0 Status: OK CheckDir: ballgown.Rcheck Warnings: 0