Package: ballgown Version: 2.42.0 Command: rm -rf ballgown.buildbin-libdir && mkdir ballgown.buildbin-libdir && /Users/biocbuild/BBS/utils/build-universal.sh ballgown_2.42.0.tar.gz /Library/Frameworks/R.framework/Resources/bin/R ballgown.buildbin-libdir StartedAt: 2025-11-04 01:28:22 -0500 (Tue, 04 Nov 2025) EndedAt: 2025-11-04 01:29:18 -0500 (Tue, 04 Nov 2025) EllapsedTime: 55.1 seconds RetCode: 0 Status: OK PackageFile: ballgown_2.42.0.tgz PackageFileSize: 3.316 MiB