Package: ballgown Version: 2.42.0 Command: /Library/Frameworks/R.framework/Resources/bin/R CMD INSTALL ballgown StartedAt: 2025-11-10 15:16:27 -0500 (Mon, 10 Nov 2025) EndedAt: 2025-11-10 15:16:42 -0500 (Mon, 10 Nov 2025) EllapsedTime: 15.4 seconds RetCode: 0 Status: OK