Package: ballgown Version: 2.42.0 Command: /Library/Frameworks/R.framework/Resources/bin/R CMD check --install=check:ballgown.install-out.txt --library=/Library/Frameworks/R.framework/Resources/library --no-vignettes --timings ballgown_2.42.0.tar.gz StartedAt: 2025-11-10 18:48:59 -0500 (Mon, 10 Nov 2025) EndedAt: 2025-11-10 18:51:23 -0500 (Mon, 10 Nov 2025) EllapsedTime: 143.6 seconds RetCode: 0 Status: OK CheckDir: ballgown.Rcheck Warnings: 0