Package: ballgown Version: 2.42.0 Command: /Library/Frameworks/R.framework/Resources/bin/R CMD check --install=check:ballgown.install-out.txt --library=/Library/Frameworks/R.framework/Resources/library --no-vignettes --timings ballgown_2.42.0.tar.gz StartedAt: 2025-11-18 02:51:17 -0500 (Tue, 18 Nov 2025) EndedAt: 2025-11-18 02:54:09 -0500 (Tue, 18 Nov 2025) EllapsedTime: 171.4 seconds RetCode: 1 Status: ERROR CheckDir: ballgown.Rcheck Warnings: NA