Package: ballgown Version: 2.42.0 Command: /Library/Frameworks/R.framework/Resources/bin/R CMD build --keep-empty-dirs --no-resave-data ballgown StartedAt: 2025-11-17 19:11:58 -0500 (Mon, 17 Nov 2025) EndedAt: 2025-11-17 19:12:20 -0500 (Mon, 17 Nov 2025) EllapsedTime: 22.2 seconds RetCode: 0 Status: OK PackageFile: ballgown_2.42.0.tar.gz PackageFileSize: 3.081 MiB