Package: ballgown Version: 2.42.0 Maintainer: Jack Fu MaintainerEmail: jmfu at jhsph.edu git_url: https://git.bioconductor.org/packages/ballgown git_branch: RELEASE_3_22 git_last_commit: f1b4171 git_last_commit_date: 2025-10-29 10:20:34 -0500 (Wed, 29 Oct 2025)