Package: awst Version: 1.17.0 Command: /Library/Frameworks/R.framework/Resources/bin/R CMD INSTALL awst StartedAt: 2025-10-17 15:22:39 -0400 (Fri, 17 Oct 2025) EndedAt: 2025-10-17 15:23:06 -0400 (Fri, 17 Oct 2025) EllapsedTime: 27.6 seconds RetCode: 0 Status: OK