Package: attract Version: 1.62.0 Command: /Library/Frameworks/R.framework/Resources/bin/R CMD INSTALL attract StartedAt: 2025-10-31 15:25:16 -0400 (Fri, 31 Oct 2025) EndedAt: 2025-10-31 15:25:25 -0400 (Fri, 31 Oct 2025) EllapsedTime: 9.3 seconds RetCode: 0 Status: OK