Package: attract Version: 1.62.0 Command: /Library/Frameworks/R.framework/Resources/bin/R CMD check --install=check:attract.install-out.txt --library=/Library/Frameworks/R.framework/Resources/library --no-vignettes --timings attract_1.62.0.tar.gz StartedAt: 2025-11-06 18:30:48 -0500 (Thu, 06 Nov 2025) EndedAt: 2025-11-06 18:32:43 -0500 (Thu, 06 Nov 2025) EllapsedTime: 115.5 seconds RetCode: 0 Status: OK CheckDir: attract.Rcheck Warnings: 0