Package: attract Version: 1.62.0 Command: /Library/Frameworks/R.framework/Resources/bin/R CMD build --keep-empty-dirs --no-resave-data attract StartedAt: 2025-11-02 15:39:52 -0500 (Sun, 02 Nov 2025) EndedAt: 2025-11-02 15:40:54 -0500 (Sun, 02 Nov 2025) EllapsedTime: 62.7 seconds RetCode: 0 Status: OK PackageFile: attract_1.62.0.tar.gz PackageFileSize: 4.294 MiB