Package: atSNP Version: 1.25.0 Command: /home/biocbuild/R/R/bin/R CMD INSTALL atSNP StartedAt: 2025-10-23 21:19:26 -0000 (Thu, 23 Oct 2025) EndedAt: 2025-10-23 21:20:50 -0000 (Thu, 23 Oct 2025) EllapsedTime: 84.3 seconds RetCode: 0 Status: OK