Package: atSNP Version: 1.25.0 Command: /home/biocbuild/R/R/bin/R CMD build --keep-empty-dirs --no-resave-data atSNP StartedAt: 2025-10-20 21:46:45 -0000 (Mon, 20 Oct 2025) EndedAt: 2025-10-20 21:48:33 -0000 (Mon, 20 Oct 2025) EllapsedTime: 108.0 seconds RetCode: 0 Status: OK PackageFile: atSNP_1.25.0.tar.gz PackageFileSize: 857.3 KiB