Package: atSNP Version: 1.25.0 Command: rm -rf atSNP.buildbin-libdir && mkdir atSNP.buildbin-libdir && F:\biocbuild\bbs-3.22-bioc\R\bin\R.exe CMD INSTALL --build --library=atSNP.buildbin-libdir atSNP_1.25.0.tar.gz StartedAt: 2025-08-15 09:45:04 -0400 (Fri, 15 Aug 2025) EndedAt: 2025-08-15 09:46:15 -0400 (Fri, 15 Aug 2025) EllapsedTime: 71.0 seconds RetCode: 0 Status: OK PackageFile: atSNP_1.25.0.zip PackageFileSize: 1.311 MiB