Package: atSNP Version: 1.25.0 Command: /Library/Frameworks/R.framework/Resources/bin/R CMD check --install=check:atSNP.install-out.txt --library=/Library/Frameworks/R.framework/Resources/library --no-vignettes --timings atSNP_1.25.0.tar.gz StartedAt: 2025-10-24 19:33:47 -0400 (Fri, 24 Oct 2025) EndedAt: 2025-10-24 19:40:02 -0400 (Fri, 24 Oct 2025) EllapsedTime: 374.9 seconds RetCode: 0 Status: OK CheckDir: atSNP.Rcheck Warnings: 0