Package: atSNP Version: 1.25.0 Command: /Library/Frameworks/R.framework/Resources/bin/R CMD build --keep-empty-dirs --no-resave-data atSNP StartedAt: 2025-10-24 16:10:04 -0400 (Fri, 24 Oct 2025) EndedAt: 2025-10-24 16:11:28 -0400 (Fri, 24 Oct 2025) EllapsedTime: 83.3 seconds RetCode: 0 Status: OK PackageFile: atSNP_1.25.0.tar.gz PackageFileSize: 1.029 MiB