Package: atSNP Version: 1.25.0 Command: /Library/Frameworks/R.framework/Resources/bin/R CMD INSTALL atSNP StartedAt: 2025-10-26 15:27:56 -0400 (Sun, 26 Oct 2025) EndedAt: 2025-10-26 15:28:17 -0400 (Sun, 26 Oct 2025) EllapsedTime: 21.2 seconds RetCode: 0 Status: OK