Package: atSNP Version: 1.25.0 Command: rm -rf atSNP.buildbin-libdir && mkdir atSNP.buildbin-libdir && /Users/biocbuild/BBS/utils/build-universal.sh atSNP_1.25.0.tar.gz /Library/Frameworks/R.framework/Resources/bin/R atSNP.buildbin-libdir StartedAt: 2025-10-26 22:29:10 -0400 (Sun, 26 Oct 2025) EndedAt: 2025-10-26 22:29:31 -0400 (Sun, 26 Oct 2025) EllapsedTime: 21.4 seconds RetCode: 0 Status: OK PackageFile: atSNP_1.25.0.tgz PackageFileSize: 1.186 MiB