Package: artMS Version: 1.27.0 Command: /home/biocbuild/R/R/bin/R CMD INSTALL artMS StartedAt: 2025-10-16 21:39:58 -0000 (Thu, 16 Oct 2025) EndedAt: 2025-10-16 21:40:41 -0000 (Thu, 16 Oct 2025) EllapsedTime: 42.4 seconds RetCode: 0 Status: OK