Package: artMS Version: 1.27.0 Command: /home/biocbuild/R/R/bin/R CMD check --install=check:artMS.install-out.txt --library=/home/biocbuild/R/R/site-library --no-vignettes --timings artMS_1.27.0.tar.gz StartedAt: 2025-10-21 04:32:04 -0000 (Tue, 21 Oct 2025) EndedAt: 2025-10-21 04:36:04 -0000 (Tue, 21 Oct 2025) EllapsedTime: 240.2 seconds RetCode: 0 Status: OK CheckDir: artMS.Rcheck Warnings: 0