Package: artMS Version: 1.27.0 Command: /home/biocbuild/R/R/bin/R CMD build --keep-empty-dirs --no-resave-data artMS StartedAt: 2025-10-16 23:02:14 -0000 (Thu, 16 Oct 2025) EndedAt: 2025-10-16 23:03:33 -0000 (Thu, 16 Oct 2025) EllapsedTime: 79.0 seconds RetCode: 0 Status: OK PackageFile: artMS_1.27.0.tar.gz PackageFileSize: 3.654 MiB