Package: artMS Version: 1.27.0 Command: /home/biocbuild/bbs-3.22-bioc/R/bin/R CMD INSTALL artMS StartedAt: 2025-10-17 15:25:01 -0400 (Fri, 17 Oct 2025) EndedAt: 2025-10-17 15:25:31 -0400 (Fri, 17 Oct 2025) EllapsedTime: 29.4 seconds RetCode: 0 Status: OK