Package: artMS Version: 1.27.0 Command: /home/biocbuild/bbs-3.22-bioc/R/bin/R CMD check --install=check:artMS.install-out.txt --library=/home/biocbuild/bbs-3.22-bioc/R/site-library --timings artMS_1.27.0.tar.gz StartedAt: 2025-10-19 21:05:08 -0400 (Sun, 19 Oct 2025) EndedAt: 2025-10-19 21:08:30 -0400 (Sun, 19 Oct 2025) EllapsedTime: 201.2 seconds RetCode: 0 Status: OK CheckDir: artMS.Rcheck Warnings: 0