Package: artMS Version: 1.27.0 Command: /home/biocbuild/bbs-3.22-bioc/R/bin/R CMD build --keep-empty-dirs --no-resave-data --md5 artMS StartedAt: 2025-10-19 16:14:59 -0400 (Sun, 19 Oct 2025) EndedAt: 2025-10-19 16:15:58 -0400 (Sun, 19 Oct 2025) EllapsedTime: 59.0 seconds RetCode: 0 Status: OK PackageFile: artMS_1.27.0.tar.gz PackageFileSize: 3.987 MiB