Package: artMS Version: 1.27.0 Command: /Library/Frameworks/R.framework/Resources/bin/R CMD INSTALL artMS StartedAt: 2025-10-17 15:24:09 -0400 (Fri, 17 Oct 2025) EndedAt: 2025-10-17 15:24:51 -0400 (Fri, 17 Oct 2025) EllapsedTime: 42.0 seconds RetCode: 0 Status: OK