Package: artMS Version: 1.27.0 Command: /Library/Frameworks/R.framework/Resources/bin/R CMD INSTALL artMS StartedAt: 2025-10-17 15:08:59 -0400 (Fri, 17 Oct 2025) EndedAt: 2025-10-17 15:09:12 -0400 (Fri, 17 Oct 2025) EllapsedTime: 12.7 seconds RetCode: 0 Status: OK