Package: artMS Version: 1.27.0 Command: /Library/Frameworks/R.framework/Resources/bin/R CMD check --install=check:artMS.install-out.txt --library=/Library/Frameworks/R.framework/Resources/library --no-vignettes --timings artMS_1.27.0.tar.gz StartedAt: 2025-10-19 18:26:25 -0400 (Sun, 19 Oct 2025) EndedAt: 2025-10-19 18:27:37 -0400 (Sun, 19 Oct 2025) EllapsedTime: 71.9 seconds RetCode: 0 Status: OK CheckDir: artMS.Rcheck Warnings: 0